BEGIN:VCALENDAR
VERSION:2.0
PRODID:-//Weingut Donabaum - ECPv6.15.20//NONSGML v1.0//EN
CALSCALE:GREGORIAN
METHOD:PUBLISH
X-WR-CALNAME:Weingut Donabaum
X-ORIGINAL-URL:https://donabaum.at
X-WR-CALDESC:Veranstaltungen für Weingut Donabaum
REFRESH-INTERVAL;VALUE=DURATION:PT1H
X-Robots-Tag:noindex
X-PUBLISHED-TTL:PT1H
BEGIN:VTIMEZONE
TZID:Europe/Berlin
BEGIN:DAYLIGHT
TZOFFSETFROM:+0100
TZOFFSETTO:+0200
TZNAME:CEST
DTSTART:20230326T010000
END:DAYLIGHT
BEGIN:STANDARD
TZOFFSETFROM:+0200
TZOFFSETTO:+0100
TZNAME:CET
DTSTART:20231029T010000
END:STANDARD
BEGIN:DAYLIGHT
TZOFFSETFROM:+0100
TZOFFSETTO:+0200
TZNAME:CEST
DTSTART:20240331T010000
END:DAYLIGHT
BEGIN:STANDARD
TZOFFSETFROM:+0200
TZOFFSETTO:+0100
TZNAME:CET
DTSTART:20241027T010000
END:STANDARD
BEGIN:DAYLIGHT
TZOFFSETFROM:+0100
TZOFFSETTO:+0200
TZNAME:CEST
DTSTART:20250330T010000
END:DAYLIGHT
BEGIN:STANDARD
TZOFFSETFROM:+0200
TZOFFSETTO:+0100
TZNAME:CET
DTSTART:20251026T010000
END:STANDARD
END:VTIMEZONE
BEGIN:VEVENT
DTSTART;VALUE=DATE:20240828
DTEND;VALUE=DATE:20240902
DTSTAMP:20260423T131748
CREATED:20231128T140553Z
LAST-MODIFIED:20250326T150419Z
UID:3862-1724803200-1725235199@donabaum.at
SUMMARY:Buschenschank STRAWANZER IV
DESCRIPTION:Ausg’steckt is am Weingut STRAWANZER \ntäglich ab 16 Uhr\nSA\, SO & Feiertag ab 15 Uhr \n\n\nBuschenschank STRAWANZER – pre harvest heuriger\n\n\n\nGenießen im Sommer\, herrliches Glaserl Wein und kalte Schmankerl direkt in den Reben.\nVon regionalen\, saisonalen Schmankerl\, ausgezeichnetem Wachauer Wein und Oma’s Mehlspeisen ist alles dabei.\n\nFreuen uns auf EUCH!
URL:https://donabaum.at/event/buschenschank-strawanzer-iv/
LOCATION:Weingut STRAWANZER\, In der Spitz 3\, Spitz\, NÖ\, 3620\, Austria
CATEGORIES:Buschenschank
ATTACH;FMTTYPE=image/jpeg:https://donabaum.at/data/uploads/2021/06/Donabaum©nimozimmerhackl_025.jpg
END:VEVENT
END:VCALENDAR